BEGIN:VCALENDAR
VERSION:2.0
METHOD:PUBLISH
PRODID:-//Agenda.ad//NONSGML v1.0//EN
BEGIN:VEVENT
CLASS:PUBLIC
UID:c1f0a772403b7ad2570f0a62157c4895@agenda.ad
DTSTAMP:20260422T015821Z
DTSTART:20191011T220000Z
DTEND:20191011T220000Z
SUMMARY:<span>20 Anys d&rsquo;Infants del M&oacute;n &middot;&nbsp;<span>Concert solidari</span></span>
DESCRIPTION:Concert solidari\n\nMÃ©s informaciÃ³\nhttps://www.agenda.ad/
 activitat/andorra-la-vella/musica/20-anys-dinfants-del-mon-Â
  concert-solidari\nInfants del MÃ³nTel.:Â 862 411 
 -Â 331 818 - 680 038Â \n\nOrganitza\nInfants del MÃ³
 n 
LOCATION:Centre de Congressos d'Andorra la Vella
SEQUENCE:0
TRANSP:OPAQUE
X-ALT-DESC;FMTTYPE=text/html:<!DOCTYPE HTML PUBLIC "-//W3C//DTD HTML 3.2//EN"><HTML><HEAD
 ><TITLE></TITLE></HEAD><BODY><FONT FACE="Arial" SIZE=2><span
 >Concert solidari</span><br/><br/><b>MÃ©s informaciÃ³</b><br
 /><a href="https://www.agenda.ad/activitat/andorra-la-vella/
 musica/20-anys-dinfants-del-mon-Â concert-solidari">https://
 www.agenda.ad/activitat/andorra-la-vella/musica/20-anys-dinf
 ants-del-mon-Â concert-solidari</a><br/>Infants del M&oacute
 ;nTel.:&nbsp;862 411 -&nbsp;331 818 - 680 038&nbsp;<br/><br/
 ><b>Organitza</b><br/>Infants del MÃ³n </FONT></BODY></HTML>
END:VEVENT
END:VCALENDAR